BEGIN:VCALENDAR
VERSION:2.0
PRODID:-//Burg Ronneburg - ECPv6.15.13//NONSGML v1.0//EN
CALSCALE:GREGORIAN
METHOD:PUBLISH
X-WR-CALNAME:Burg Ronneburg
X-ORIGINAL-URL:https://burg-ronneburg.de
X-WR-CALDESC:Veranstaltungen für Burg Ronneburg
REFRESH-INTERVAL;VALUE=DURATION:PT1H
X-Robots-Tag:noindex
X-PUBLISHED-TTL:PT1H
BEGIN:VTIMEZONE
TZID:Europe/Berlin
BEGIN:DAYLIGHT
TZOFFSETFROM:+0100
TZOFFSETTO:+0200
TZNAME:CEST
DTSTART:20250330T010000
END:DAYLIGHT
BEGIN:STANDARD
TZOFFSETFROM:+0200
TZOFFSETTO:+0100
TZNAME:CET
DTSTART:20251026T010000
END:STANDARD
BEGIN:DAYLIGHT
TZOFFSETFROM:+0100
TZOFFSETTO:+0200
TZNAME:CEST
DTSTART:20260329T010000
END:DAYLIGHT
BEGIN:STANDARD
TZOFFSETFROM:+0200
TZOFFSETTO:+0100
TZNAME:CET
DTSTART:20261025T010000
END:STANDARD
BEGIN:DAYLIGHT
TZOFFSETFROM:+0100
TZOFFSETTO:+0200
TZNAME:CEST
DTSTART:20270328T010000
END:DAYLIGHT
BEGIN:STANDARD
TZOFFSETFROM:+0200
TZOFFSETTO:+0100
TZNAME:CET
DTSTART:20271031T010000
END:STANDARD
END:VTIMEZONE
BEGIN:VEVENT
DTSTART;TZID=Europe/Berlin:20260315T130000
DTEND;TZID=Europe/Berlin:20260315T170000
DTSTAMP:20260421T104529
CREATED:20230213T194942Z
LAST-MODIFIED:20251112T085532Z
UID:10000016-1773579600-1773594000@burg-ronneburg.de
SUMMARY:Sonntagsprogramm - Lederbeutel basteln
DESCRIPTION:Der Werkstoff Leder begleitet die Menschen seit tausenden von Jahren im Alltag – ob als einfacher Beutel\, als Trinkgefäß\, als Schuh oder sogar als Bucheinband. Die widerstandsfähigen\, gegerbten Tierhäute haben den Menschen in der Geschichte maßgeblich begleitet – beflügelt von der menschlichen Kreativität wurde auch dieses außergewöhnliche Material zu kunstvollen Objekten verarbeitet. Lernen Sie und Ihre Kinder\, wie man mit ein wenig Geschick\, raffinierte und nutzvolle Lederbeutel herstellen kann. Dein selbst hergestellten Lederbeutel\, darfst du dann auch mit nachhause nehmen. \nPreis\n\n4€ pro Teilnehmer (zzgl. Museumseintritt)
URL:https://burg-ronneburg.de/event/leder-punzieren/
ATTACH;FMTTYPE=image/jpeg:https://burg-ronneburg.de/wp-content/uploads/2023/02/leder-01s.jpg
END:VEVENT
END:VCALENDAR